BEGIN:VCALENDAR
VERSION:2.0
PRODID:-//Larry and Carla - ECPv6.15.20//NONSGML v1.0//EN
CALSCALE:GREGORIAN
METHOD:PUBLISH
X-WR-CALNAME:Larry and Carla
X-ORIGINAL-URL:https://larryandcarla.com
X-WR-CALDESC:Events for Larry and Carla
REFRESH-INTERVAL;VALUE=DURATION:PT1H
X-Robots-Tag:noindex
X-PUBLISHED-TTL:PT1H
BEGIN:VTIMEZONE
TZID:America/Detroit
BEGIN:DAYLIGHT
TZOFFSETFROM:-0500
TZOFFSETTO:-0400
TZNAME:EDT
DTSTART:20170312T070000
END:DAYLIGHT
BEGIN:STANDARD
TZOFFSETFROM:-0400
TZOFFSETTO:-0500
TZNAME:EST
DTSTART:20171105T060000
END:STANDARD
BEGIN:DAYLIGHT
TZOFFSETFROM:-0500
TZOFFSETTO:-0400
TZNAME:EDT
DTSTART:20180311T070000
END:DAYLIGHT
BEGIN:STANDARD
TZOFFSETFROM:-0400
TZOFFSETTO:-0500
TZNAME:EST
DTSTART:20181104T060000
END:STANDARD
BEGIN:DAYLIGHT
TZOFFSETFROM:-0500
TZOFFSETTO:-0400
TZNAME:EDT
DTSTART:20190310T070000
END:DAYLIGHT
BEGIN:STANDARD
TZOFFSETFROM:-0400
TZOFFSETTO:-0500
TZNAME:EST
DTSTART:20191103T060000
END:STANDARD
BEGIN:DAYLIGHT
TZOFFSETFROM:-0500
TZOFFSETTO:-0400
TZNAME:EDT
DTSTART:20200308T070000
END:DAYLIGHT
BEGIN:STANDARD
TZOFFSETFROM:-0400
TZOFFSETTO:-0500
TZNAME:EST
DTSTART:20201101T060000
END:STANDARD
END:VTIMEZONE
BEGIN:VEVENT
DTSTART;TZID=America/Detroit:20190519T103000
DTEND;TZID=America/Detroit:20190519T120000
DTSTAMP:20260425T114539
CREATED:20190215T171026Z
LAST-MODIFIED:20200930T112156Z
UID:3958-1558261800-1558267200@larryandcarla.com
SUMMARY:Handbell Duets at North Park Presbyterian Church
DESCRIPTION:Larry and Carla will be playing handbell duets as part of the Music Sunday service at North Park Presbyterian Church in Grand Rapids.
URL:https://larryandcarla.com/event/handbell-duets-at-north-park-presbyterian-church-grand-rapids/
LOCATION:North Park Presbyterian Church\, 2543\, 500 N Park St NE\, Grand Rapids\, MI\, 49525\, United States
CATEGORIES:Worship Service
END:VEVENT
BEGIN:VEVENT
DTSTART;TZID=America/Detroit:20190505T150000
DTEND;TZID=America/Detroit:20190505T162000
DTSTAMP:20260425T114539
CREATED:20190425T231642Z
LAST-MODIFIED:20200930T112203Z
UID:4215-1557068400-1557073200@larryandcarla.com
SUMMARY:Handbell Duet Concert in Los Altos\, California
DESCRIPTION:Returning to the San Francisco Bay Area for a concert! \nJust three years ago\, Larry and Carla Sue left the San Francisco Bay Area and moved to Holland\, Michigan. Since then\, they have spent their time proving that yes\, you can play eight bells with only two ringers\, and they’ve built a thriving online music business in the process. Now they’re back in the Bay Area to showcase their talents as a duo\, and feature their music. \nLarry and Carla first met when they started chatting via an online handbell community. Their in-person meeting was delayed (since Carla lived in England and Larry in California)\, but a year after they finally connected at a handbell event in 2010\, they were engaged. They have been arranging music for handbells and performing duets together ever since. So far\, their performances have taken them to Georgia\, Pennsylvania\, Nebraska\, Michigan\, and New Jersey\, and they have been featured at weddings\, memorials\, concerts\, corporate events\, worship services\, holiday events\, classes\, workshops\, and even on television. \nThis dynamic duo plays with an ease that showcases what can be accomplished with just two ringers and only eight handbells. The Bay Area is pleased to welcome Larry and Carla back in a one-time concert this spring — don’t miss it! \nNo tickets required; a free-will offering will be collected to help Handbell Ventures with the cost of bringing Larry and Carla back to the Bay Area.  🙂
URL:https://larryandcarla.com/event/handbell-duet-concert-in-los-altos-california/
LOCATION:Los Altos Lutheran Church\, 460 S. El Monte Avenue\, Los Altos\, CA\, 94022\, United States
CATEGORIES:Community Event,Handbell Concert
END:VEVENT
BEGIN:VEVENT
DTSTART;TZID=America/Detroit:20181230T160000
DTEND;TZID=America/Detroit:20181230T170000
DTSTAMP:20260425T114539
CREATED:20181022T210506Z
LAST-MODIFIED:20240116T025737Z
UID:3823-1546185600-1546189200@larryandcarla.com
SUMMARY:Vespers Service at Freedom Village of Holland (Private Event)
DESCRIPTION:Christmas bells! \n\nLarry and Carla will be playing Christmas handbell music at the Sunday vespers service for Freedom Village residents and guests.
URL:https://larryandcarla.com/event/vespers-service-at-freedom-village-of-holland-private-event/
LOCATION:Freedom Village\, 145 Columbia Ave\, Holland\, MI\, 49423\, United States
CATEGORIES:Christmas and Holiday Performance,Worship Service
END:VEVENT
BEGIN:VEVENT
DTSTART;TZID=America/Detroit:20181218T123000
DTEND;TZID=America/Detroit:20181218T133000
DTSTAMP:20260425T114539
CREATED:20180606T002213Z
LAST-MODIFIED:20180609T153731Z
UID:3297-1545136200-1545139800@larryandcarla.com
SUMMARY:Holiday Handbell Duet Concert (Private Event)
DESCRIPTION:Larry and Carla will be presenting a program of holiday handbell duets at this private event in Grandville\, Michigan.
URL:https://larryandcarla.com/event/holiday-handbell-duet-concert-private-event/
LOCATION:Grandville\, Michigan
CATEGORIES:Christmas and Holiday Performance
END:VEVENT
BEGIN:VEVENT
DTSTART;TZID=America/Detroit:20181217T183000
DTEND;TZID=America/Detroit:20181217T193000
DTSTAMP:20260425T114539
CREATED:20181106T145007Z
LAST-MODIFIED:20181106T145007Z
UID:3849-1545071400-1545075000@larryandcarla.com
SUMMARY:Christmas Handbells in Holland\, Michigan (Private Event)
DESCRIPTION:Larry and Carla will be playing Christmas handbell duets to entertain residents and their families at a senior living community in Holland\, Michigan. This is a private event.
URL:https://larryandcarla.com/event/christmas-handbells-in-holland-michigan-private-event/
LOCATION:Resthaven Maple Woods\, 49 E 32nd St\, Holland\, MI\, 49423\, United States
END:VEVENT
BEGIN:VEVENT
DTSTART;TZID=America/Detroit:20181217T130000
DTEND;TZID=America/Detroit:20181217T160000
DTSTAMP:20260425T114539
CREATED:20181018T235752Z
LAST-MODIFIED:20181018T235752Z
UID:3820-1545051600-1545062400@larryandcarla.com
SUMMARY:Christmas Bells at the Salvation Army Red Kettle in Holland\, MI
DESCRIPTION:Bellringing for the Salvation Army in Holland\, Michigan!  \nHandbell duo Larry and Carla will be playing Christmas handbell music at the Salvation Army Red Kettle at D&W Fresh Market in Holland\, Michigan!
URL:https://larryandcarla.com/event/christmas-bells-at-the-salvation-army-red-kettle-in-holland-mi-4/
LOCATION:D&W Fresh Market\, 50 Douglas Ave\, Holland\, MI\, 49424\, United States
CATEGORIES:Christmas and Holiday Performance,Community Event,Street Performance
END:VEVENT
BEGIN:VEVENT
DTSTART;TZID=America/Detroit:20181213T131500
DTEND;TZID=America/Detroit:20181213T140000
DTSTAMP:20260425T114539
CREATED:20180613T223439Z
LAST-MODIFIED:20180613T223439Z
UID:3316-1544706900-1544709600@larryandcarla.com
SUMMARY:Handbell Performance at Holiday Tea Party (Private Event)
DESCRIPTION:Larry and Carla will playing Christmas and holiday handbell duets for this private event at Hudsonville Library.
URL:https://larryandcarla.com/event/handbell-performance-at-holiday-tea-party-private-event/
LOCATION:Gary Byker Memorial Library of Hudsonville\, 3338 Van Buren St\, Hudsonville\, MI\, 49426\, United States
CATEGORIES:Christmas and Holiday Performance
END:VEVENT
BEGIN:VEVENT
DTSTART;TZID=America/Detroit:20181212T183000
DTEND;TZID=America/Detroit:20181212T193000
DTSTAMP:20260425T114539
CREATED:20180724T195727Z
LAST-MODIFIED:20180724T195727Z
UID:3382-1544639400-1544643000@larryandcarla.com
SUMMARY:Larry and Carla - Handbell Duets at Christmas Party in Holland\, Michigan (Private Event)
DESCRIPTION:Larry and Carla will be playing Christmas handbell duets to entertain residents and their families at a care center in Holland\, Michigan. This is a private event.
URL:https://larryandcarla.com/event/larry-and-carla-handbell-duets-at-christmas-party-in-holland-michigan-private-event/
LOCATION:280 W 40th St\, Holland\, MI 49423\, 280 W 40th Street\, Holland\, MI\, 49423\, United States
CATEGORIES:Christmas and Holiday Performance
END:VEVENT
BEGIN:VEVENT
DTSTART;TZID=America/Detroit:20181212T100000
DTEND;TZID=America/Detroit:20181212T130000
DTSTAMP:20260425T114539
CREATED:20181018T235449Z
LAST-MODIFIED:20181018T235449Z
UID:3818-1544608800-1544619600@larryandcarla.com
SUMMARY:Christmas Bells at the Salvation Army Red Kettle in Holland\, MI
DESCRIPTION:Bellringing for the Salvation Army in Holland\, Michigan!  \nHandbell duo Larry and Carla will be playing Christmas handbell music at the Salvation Army Red Kettle at D&W Fresh Market in Holland\, Michigan!
URL:https://larryandcarla.com/event/christmas-bells-at-the-salvation-army-red-kettle-in-holland-mi-3/
CATEGORIES:Christmas and Holiday Performance,Community Event,Street Performance
END:VEVENT
BEGIN:VEVENT
DTSTART;TZID=America/Detroit:20181211T183000
DTEND;TZID=America/Detroit:20181211T193000
DTSTAMP:20260425T114539
CREATED:20180724T195233Z
LAST-MODIFIED:20180724T195233Z
UID:3379-1544553000-1544556600@larryandcarla.com
SUMMARY:Larry and Carla - Christmas Handbell Duets in Holland\, Michigan (Private Event)
DESCRIPTION:Larry and Carla will be playing Christmas handbell duets to entertain residents and their families at a care center in Holland\, Michigan. This is a private event.
URL:https://larryandcarla.com/event/larry-and-carla-christmas-handbell-duets-in-holland-michigan-private-event/
LOCATION:Resthaven Care Center\, 280 W 40th St\, Holland\, MI\, 49423\, United States
CATEGORIES:Christmas and Holiday Performance
END:VEVENT
BEGIN:VEVENT
DTSTART;TZID=America/Detroit:20181210T130000
DTEND;TZID=America/Detroit:20181210T140000
DTSTAMP:20260425T114539
CREATED:20180808T021048Z
LAST-MODIFIED:20180808T021133Z
UID:3424-1544446800-1544450400@larryandcarla.com
SUMMARY:Handbell Duets - Christmas Entertainment in Grand Rapids\, Michigan
DESCRIPTION:West Michigan handbell duo Larry and Carla will be presenting a program of Christmas handbell music for residents and guests at this senior living community in Grand Rapids. This is a private event.
URL:https://larryandcarla.com/event/handbell-duets-christmas-entertainment-in-grand-rapids-michigan/
LOCATION:1055 Forest Hill Ave SE\, Grand Rapids\, MI 49546\, 1055 Forest Hill Ave SE\, Grand Rapids\, MI\, 49546\, United States
CATEGORIES:Christmas and Holiday Performance,Handbell Concert
END:VEVENT
BEGIN:VEVENT
DTSTART;TZID=America/Detroit:20181209T093000
DTEND;TZID=America/Detroit:20181209T114500
DTSTAMP:20260425T114539
CREATED:20181115T225241Z
LAST-MODIFIED:20181115T225241Z
UID:3877-1544347800-1544355900@larryandcarla.com
SUMMARY:Handbells at Cultivate Community Church
DESCRIPTION:Handbell duo Larry and Carla will be playing seasonal handbell music before and after the morning service at Cultivate Community Church in Hamilton\, Michigan.
URL:https://larryandcarla.com/event/handbells-at-cultivate-community-church/
LOCATION:Cultivate Community Church\, 4754 136th Ave\, Hamilton\, 49419\, United States
CATEGORIES:Christmas and Holiday Performance,Community Event,Worship Service
END:VEVENT
BEGIN:VEVENT
DTSTART;TZID=America/Detroit:20181207T173000
DTEND;TZID=America/Detroit:20181207T183000
DTSTAMP:20260425T114539
CREATED:20181113T201139Z
LAST-MODIFIED:20211207T210455Z
UID:3870-1544203800-1544207400@larryandcarla.com
SUMMARY:Handbell Duets at Corporate Christmas Party (Private Event)
DESCRIPTION:Handbell duo Larry and Carla will be playing seasonal handbell music to welcome guests at this annual holiday party in Grand Rapids.
URL:https://larryandcarla.com/event/handbell-duets-at-corporate-christmas-party-private-event/
LOCATION:Van Andel Institute\, 333 Bostwick Ave NE\, Grand Rapids\, 49503\, United States
CATEGORIES:Christmas and Holiday Performance
END:VEVENT
BEGIN:VEVENT
DTSTART;TZID=America/Detroit:20181206T184500
DTEND;TZID=America/Detroit:20181206T191500
DTSTAMP:20260425T114539
CREATED:20180708T204105Z
LAST-MODIFIED:20180708T204105Z
UID:3368-1544121900-1544123700@larryandcarla.com
SUMMARY:Christmas by Candlelight in Kalamazoo\, Michigan (Private Event)
DESCRIPTION:Larry and Carla will be playing Christmas handbell music at this ladies’ gala event in Kalamazoo\, Michigan.
URL:https://larryandcarla.com/event/christmas-by-candlelight-in-kalamazoo-michigan-private-event/
LOCATION:5240 Mt Olivet Rd\, 5240 Mt Olivet Rd\, Kalamazoo\, MI\, 49004\, United States
CATEGORIES:Christmas and Holiday Performance
END:VEVENT
BEGIN:VEVENT
DTSTART;TZID=America/Detroit:20181205T130000
DTEND;TZID=America/Detroit:20181205T133000
DTSTAMP:20260425T114539
CREATED:20180514T155538Z
LAST-MODIFIED:20180609T153742Z
UID:3237-1544014800-1544016600@larryandcarla.com
SUMMARY:Handbell Duets - Christmas Entertainment (Private Event)
DESCRIPTION:Larry and Carla will be presenting a program of Christmas and holiday music for this private event in Holland\, Michigan.
URL:https://larryandcarla.com/event/handbell-duets-christmas-entertainment-private-event/
LOCATION:Freedom Village\, 145 Columbia Ave\, Holland\, MI\, 49423\, United States
CATEGORIES:Christmas and Holiday Performance
END:VEVENT
BEGIN:VEVENT
DTSTART;TZID=America/Detroit:20181204T093000
DTEND;TZID=America/Detroit:20181204T103000
DTSTAMP:20260425T114539
CREATED:20180309T174627Z
LAST-MODIFIED:20180609T153751Z
UID:3102-1543915800-1543919400@larryandcarla.com
SUMMARY:Handbell Duets - Christmas Entertainment (Private Event)
DESCRIPTION:Christmas bells!  \nLarry and Carla will be presenting a program of Christmas music\, and talking about the history and techniques involved in playing handbells. This is a private event in Holland\, Michigan.
URL:https://larryandcarla.com/event/handbell-duets-christmas-program/
CATEGORIES:Christmas and Holiday Performance
END:VEVENT
BEGIN:VEVENT
DTSTART;TZID=America/Detroit:20181203T183000
DTEND;TZID=America/Detroit:20181203T193000
DTSTAMP:20260425T114539
CREATED:20180423T151418Z
LAST-MODIFIED:20180609T153807Z
UID:3164-1543861800-1543865400@larryandcarla.com
SUMMARY:Handbell Duets - Holiday Entertainment (Private Event)
DESCRIPTION:Larry and Carla will be presenting a program of handbell duets\, and talking about the history and techniques involved in playing handbells. This is a private event in Holland\, Michigan.
URL:https://larryandcarla.com/event/handbell-duets-holiday-entertainment-private-event/
CATEGORIES:Christmas and Holiday Performance
END:VEVENT
BEGIN:VEVENT
DTSTART;TZID=America/Detroit:20181201T100000
DTEND;TZID=America/Detroit:20181201T130000
DTSTAMP:20260425T114539
CREATED:20181018T235210Z
LAST-MODIFIED:20181018T235520Z
UID:3816-1543658400-1543669200@larryandcarla.com
SUMMARY:Christmas Bells at the Salvation Army Red Kettle in Holland\, MI
DESCRIPTION:Bellringing for the Salvation Army in Holland\, Michigan!  \nHandbell duo Larry and Carla will be playing Christmas handbell music at the Salvation Army Red Kettle at D&W Fresh Market in Holland\, Michigan!
URL:https://larryandcarla.com/event/christmas-bells-at-the-salvation-army-red-kettle-in-holland-mi-2/
LOCATION:D&W Fresh Market\, 50 Douglas Ave\, Holland\, MI\, 49424\, United States
CATEGORIES:Christmas and Holiday Performance,Community Event,Street Performance
END:VEVENT
BEGIN:VEVENT
DTSTART;TZID=America/Detroit:20181130T170000
DTEND;TZID=America/Detroit:20181130T193000
DTSTAMP:20260425T114539
CREATED:20180612T202518Z
LAST-MODIFIED:20190628T004207Z
UID:3314-1543597200-1543606200@larryandcarla.com
SUMMARY:Christmas Handbells at the Kerstmarkt - Holland
DESCRIPTION:Christmas bells!  \nLarry and Carla will be playing Christmas handbell music at the Kerstmarkt – an open-air European-style Christmas market located at the 8th Street Marketplace in Downtown Holland.
URL:https://larryandcarla.com/event/christmas-handbells-at-the-kerstmarkt-holland-2/
LOCATION:150 W 8th St\, 150 W 8th St\, Holland\, MI\, 49423\, United States
CATEGORIES:Christmas and Holiday Performance,Community Event,Street Performance
END:VEVENT
BEGIN:VEVENT
DTSTART;TZID=America/Detroit:20181129T073000
DTEND;TZID=America/Detroit:20181129T203000
DTSTAMP:20260425T114539
CREATED:20180522T214059Z
LAST-MODIFIED:20221011T012520Z
UID:3246-1543476600-1543523400@larryandcarla.com
SUMMARY:Handbell Duets -  Ladies' Christmas Event (Private Event)
DESCRIPTION:Larry and Carla will be presenting a program of Christmas handbell duets at this annual Ladies’ Christmas event in Byron Center\, Michigan.
URL:https://larryandcarla.com/event/handbell-duets-ladies-christmas-event/
CATEGORIES:Christmas and Holiday Performance
END:VEVENT
BEGIN:VEVENT
DTSTART;TZID=America/Detroit:20181126T100000
DTEND;TZID=America/Detroit:20181126T130000
DTSTAMP:20260425T114539
CREATED:20181018T234845Z
LAST-MODIFIED:20181018T234845Z
UID:3811-1543226400-1543237200@larryandcarla.com
SUMMARY:Christmas Bells at the Salvation Army Red Kettle in Holland\, MI
DESCRIPTION:Bellringing for the Salvation Army in Holland\, Michigan!  \nHandbell duo Larry and Carla will be playing Christmas handbell music at the Salvation Army Red Kettle at D&W Fresh Market in Holland\, Michigan!
URL:https://larryandcarla.com/event/christmas-bells-at-the-salvation-army-red-kettle-in-holland-mi/
LOCATION:D&W Fresh Market\, 50 Douglas Ave\, Holland\, MI\, 49424\, United States
CATEGORIES:Christmas and Holiday Performance,Community Event,Street Performance
END:VEVENT
BEGIN:VEVENT
DTSTART;TZID=America/Detroit:20181124T093000
DTEND;TZID=America/Detroit:20181124T113000
DTSTAMP:20260425T114539
CREATED:20180612T202225Z
LAST-MODIFIED:20181124T133225Z
UID:3310-1543051800-1543059000@larryandcarla.com
SUMMARY:Christmas Handbells at the Kerstmarkt - Holland
DESCRIPTION:Christmas bells!  \nLarry and Carla will be playing Christmas handbell music at the Kerstmarkt – an open-air European-style Christmas market located at the 8th Street Marketplace in Downtown Holland.
URL:https://larryandcarla.com/event/christmas-handbells-at-the-kerstmarkt-holland/
LOCATION:150 W 8th St\, 150 W 8th St\, Holland\, MI\, 49423\, United States
CATEGORIES:Christmas and Holiday Performance,Community Event,Street Performance
END:VEVENT
BEGIN:VEVENT
DTSTART;TZID=America/Detroit:20181116T110000
DTEND;TZID=America/Detroit:20181116T140000
DTSTAMP:20260425T114539
CREATED:20181004T012144Z
LAST-MODIFIED:20191121T180543Z
UID:3755-1542366000-1542376800@larryandcarla.com
SUMMARY:Ringing in the Holiday Season - in Holland\, Michigan
DESCRIPTION:Handbell duo Larry and Carla will be Ringing in the Holiday Season at Ditto Upscale Resale on Friday\, November 16th\, as part of the store’s annual Holiday Open House event. Come and welcome the holiday season with cookies\, coffee and giveaways! Larry and Carla will be performing handbell duets from 11:00am to 2:00pm.
URL:https://larryandcarla.com/event/ringing-in-the-holiday-season-in-holland-michigan/
LOCATION:Ditto Upscale Resale\, 571 E 8th St\, Holland\, MI 49423\, MI\, 49423\, United States
CATEGORIES:Christmas and Holiday Performance,Community Event
END:VEVENT
BEGIN:VEVENT
DTSTART;TZID=America/Detroit:20181104T150000
DTEND;TZID=America/Detroit:20181104T161500
DTSTAMP:20260425T114539
CREATED:20181014T215833Z
LAST-MODIFIED:20181014T215833Z
UID:3790-1541343600-1541348100@larryandcarla.com
SUMMARY:The 2018 Rietberg Concert in Holland\, Michigan
DESCRIPTION:Handbell duo Larry and Carla will be the guest musicians for the 21st Annual Rietberg Concert. This concert is a tribute to the 45 years of service of Roger and Evelyn Rietberg to the music program of Third Reformed Church. \nLarry and Carla are originally from California and England\, and were brought together by their passion for handbells. They moved to Holland in August 2016\, and are members of Third Reformed Church. This informal Sunday afternoon program will feature hymns and traditional melodies\, all played using just eight bells.
URL:https://larryandcarla.com/event/the-2018-rietberg-concert-in-holland-michigan/
LOCATION:Third Reformed Church\, 111 W 13th St\, Holland\, MI\, 49423\, United States
CATEGORIES:Community Event,Handbell Concert
END:VEVENT
BEGIN:VEVENT
DTSTART;TZID=America/Detroit:20181027T183000
DTEND;TZID=America/Detroit:20181027T191500
DTSTAMP:20260425T114539
CREATED:20181003T183334Z
LAST-MODIFIED:20181003T183334Z
UID:3752-1540665000-1540667700@larryandcarla.com
SUMMARY:Handbell Duets at Fall Fest in Grand Rapids\, Michigan
DESCRIPTION:Michigan handbell duo Larry and Carla will be presenting a program of handbell duets at Fall Fest\, the annual event held at North Park Presbyterian Church in Grand Rapids. \nThe program will start at 6:30pm and last 45-50 minutes. More details will follow!
URL:https://larryandcarla.com/event/handbell-duets-at-fall-fest-in-grand-rapids-michigan/
LOCATION:North Park Presbyterian Church\, 2543\, 500 N Park St NE\, Grand Rapids\, MI\, 49525\, United States
CATEGORIES:Community Event,Handbell Concert
END:VEVENT
BEGIN:VEVENT
DTSTART;TZID=America/Detroit:20181006T170000
DTEND;TZID=America/Detroit:20181006T180000
DTSTAMP:20260425T114539
CREATED:20180904T014316Z
LAST-MODIFIED:20180904T014403Z
UID:3585-1538845200-1538848800@larryandcarla.com
SUMMARY:Handbells with the Zeeland Community Band at PumpkinFest 2018
DESCRIPTION:Larry and Carla will be adding the music of handbells to the Zeeland Community Band’s outdoor concert during the PumpkinFest event in Downtown Zeeland. \nThe concert will be held at Vander Luyster Square Park (where the gazebo is). If it rains\, we’ll move the concert indoors – to the activity room in the Howard Miller Public Library. \nThis event is open to the public\, and is free to attend\, although donations to the band are welcome and appreciated.
URL:https://larryandcarla.com/event/handbells-with-the-zeeland-community-band-at-pumpkinfest-2018/
LOCATION:Three Corner/Vander Luyster Square Park\, Church Street\, Zeeland\, MI\, 49464\, United States
CATEGORIES:Community Event,Street Performance
END:VEVENT
BEGIN:VEVENT
DTSTART;TZID=America/Detroit:20181004T080000
DTEND;TZID=America/Detroit:20181004T170000
DTSTAMP:20260425T114539
CREATED:20181004T121654Z
LAST-MODIFIED:20181004T121654Z
UID:3759-1538640000-1538672400@larryandcarla.com
SUMMARY:Christmas Handbell Performance in Grand Rapids (Private Event)
DESCRIPTION:Michigan handbell duo Larry and Carla will be presenting a program of Christmas handbell music at a private lunchtime event in Grand Rapids.
URL:https://larryandcarla.com/event/christmas-handbell-performance-in-grand-rapids-private-event/
LOCATION:Seventh Reformed Church\, 950 Leonard Street NW\, Grand Rapids\, MI\, 49504\, United States
CATEGORIES:Christmas and Holiday Performance
END:VEVENT
BEGIN:VEVENT
DTSTART;TZID=America/Detroit:20180902T100000
DTEND;TZID=America/Detroit:20180902T110000
DTSTAMP:20260425T114539
CREATED:20180831T011436Z
LAST-MODIFIED:20201008T120530Z
UID:3483-1535882400-1535886000@larryandcarla.com
SUMMARY:Handbell Duets at Third Reformed Church of Holland\, Michigan
DESCRIPTION:Larry and Carla will be playing handbell duets during the morning service at Third Reformed Church of Holland\, Michigan.
URL:https://larryandcarla.com/event/handbell-duets-at-third-reformed-church-of-holland-michigan/
LOCATION:Third Reformed Church\, 111 W 13th St\, Holland\, MI\, 49423\, United States
END:VEVENT
BEGIN:VEVENT
DTSTART;TZID=America/Detroit:20180826T160000
DTEND;TZID=America/Detroit:20180826T170000
DTSTAMP:20260425T114539
CREATED:20180612T140456Z
LAST-MODIFIED:20180612T140456Z
UID:3307-1535299200-1535302800@larryandcarla.com
SUMMARY:Vespers Service at Freedom Village\, Holland (Private Event)
DESCRIPTION:Larry and Carla will be playing handbell duets at this worship service for Freedom Village Residents.
URL:https://larryandcarla.com/event/vespers-service-at-freedom-village-holland-private-event/
LOCATION:Freedom Village\, 145 Columbia Ave\, Holland\, MI\, 49423\, United States
CATEGORIES:Worship Service
END:VEVENT
BEGIN:VEVENT
DTSTART;TZID=America/Detroit:20180813T120000
DTEND;TZID=America/Detroit:20180817T110000
DTSTAMP:20260425T114539
CREATED:20180122T122441Z
LAST-MODIFIED:20181205T012216Z
UID:3043-1534161600-1534503600@larryandcarla.com
SUMMARY:The Bay View Week of Handbells 2018
DESCRIPTION:We’re looking forward to the 41st Bay View Week of Handbells\, where 104 advanced handbell musicians will be playing some beautiful\, challenging and exciting music under the baton of newly-appointed director Fred Gramann\, and preparing for a public concert on Thursday August 16th. \nIf you’re in the area\, and you’d like to attend the free concert\, there’s no need to book tickets in advance. The concert will be held on Thursday\, August 16th\, 2018 at 8:00pm in the John M. Hall Auditorium\, 1715 Encampment Ave.\, Petoskey\, Michigan. An offering will be taken to benefit the Bay View Association Music Scholarship Fund. You should plan to arrive in plenty of time to get good seats\, because it’s a popular concert! \nThe John M Hall Auditorium at Bay View
URL:https://larryandcarla.com/event/the-bay-view-week-of-handbells-2018/
CATEGORIES:Handbell Festival
END:VEVENT
END:VCALENDAR