BEGIN:VCALENDAR
VERSION:2.0
PRODID:-//Larry and Carla - ECPv6.15.20//NONSGML v1.0//EN
CALSCALE:GREGORIAN
METHOD:PUBLISH
X-WR-CALNAME:Larry and Carla
X-ORIGINAL-URL:https://larryandcarla.com
X-WR-CALDESC:Events for Larry and Carla
REFRESH-INTERVAL;VALUE=DURATION:PT1H
X-Robots-Tag:noindex
X-PUBLISHED-TTL:PT1H
BEGIN:VTIMEZONE
TZID:America/Detroit
BEGIN:DAYLIGHT
TZOFFSETFROM:-0500
TZOFFSETTO:-0400
TZNAME:EDT
DTSTART:20170312T070000
END:DAYLIGHT
BEGIN:STANDARD
TZOFFSETFROM:-0400
TZOFFSETTO:-0500
TZNAME:EST
DTSTART:20171105T060000
END:STANDARD
BEGIN:DAYLIGHT
TZOFFSETFROM:-0500
TZOFFSETTO:-0400
TZNAME:EDT
DTSTART:20180311T070000
END:DAYLIGHT
BEGIN:STANDARD
TZOFFSETFROM:-0400
TZOFFSETTO:-0500
TZNAME:EST
DTSTART:20181104T060000
END:STANDARD
BEGIN:DAYLIGHT
TZOFFSETFROM:-0500
TZOFFSETTO:-0400
TZNAME:EDT
DTSTART:20190310T070000
END:DAYLIGHT
BEGIN:STANDARD
TZOFFSETFROM:-0400
TZOFFSETTO:-0500
TZNAME:EST
DTSTART:20191103T060000
END:STANDARD
BEGIN:DAYLIGHT
TZOFFSETFROM:-0500
TZOFFSETTO:-0400
TZNAME:EDT
DTSTART:20200308T070000
END:DAYLIGHT
BEGIN:STANDARD
TZOFFSETFROM:-0400
TZOFFSETTO:-0500
TZNAME:EST
DTSTART:20201101T060000
END:STANDARD
END:VTIMEZONE
BEGIN:VEVENT
DTSTART;TZID=America/Detroit:20191216T100000
DTEND;TZID=America/Detroit:20191216T120000
DTSTAMP:20260425T081002
CREATED:20191107T000727Z
LAST-MODIFIED:20200930T111928Z
UID:4474-1576490400-1576497600@larryandcarla.com
SUMMARY:Christmas Handbells at D&W Fresh Market\, Holland
DESCRIPTION:Playing handbells for the Salvation Army at D&W Fresh Market in Holland \n\n\n\nHandbell duo Larry and Carla will be playing Christmas handbell music at the Salvation Army Red Kettle at D&W Fresh Market in Holland\, Michigan!
URL:https://larryandcarla.com/event/christmas-handbells-at-dw-fresh-market-holland-2/
LOCATION:D&W Fresh Market\, 50 Douglas Ave\, Holland\, MI\, 49424\, United States
CATEGORIES:Christmas and Holiday Performance,Community Event,Street Performance
END:VEVENT
BEGIN:VEVENT
DTSTART;TZID=America/Detroit:20191213T053000
DTEND;TZID=America/Detroit:20191213T190000
DTSTAMP:20260425T081002
CREATED:20190628T005904Z
LAST-MODIFIED:20200930T111935Z
UID:4286-1576215000-1576263600@larryandcarla.com
SUMMARY:Christmas Handbell Duets at the Kerstmarkt - Holland 2019
DESCRIPTION:Larry and Carla will be playing Christmas handbell music at the Kerstmarkt – an open-air European-style Christmas market located at the 8th Street Marketplace in Downtown Holland. Come and listen to beautiful festive music as you shop for unique\, handcrafted gifts and locally-made holiday treats. Coffee and hot cider will be available to help you stay warm!
URL:https://larryandcarla.com/event/christmas-handbell-duets-at-the-kerstmarkt-holland-2019/
LOCATION:Kerstmarkt – Holland\, 150 W 8th St\, Holland\, MI\, 49423\, United States
CATEGORIES:Christmas and Holiday Performance,Community Event,Street Performance
END:VEVENT
BEGIN:VEVENT
DTSTART;TZID=America/Detroit:20191212T134500
DTEND;TZID=America/Detroit:20191212T143000
DTSTAMP:20260425T081002
CREATED:20190407T223608Z
LAST-MODIFIED:20200930T111941Z
UID:4195-1576158300-1576161000@larryandcarla.com
SUMMARY:Christmas Handbell Duets in Hudsonville
DESCRIPTION:Michigan handbell duo Larry and Carla will be back for the second time with a program of Christmas handbell duets\, presented by Friends of the Gary Byker Memorial Library. Exact time and further details will be confirmed closer to the date!
URL:https://larryandcarla.com/event/christmas-handbell-duets-in-hudsonville/
LOCATION:Gary Byker Memorial Library of Hudsonville\, 3338 Van Buren St\, Hudsonville\, MI\, 49426\, United States
CATEGORIES:Christmas and Holiday Performance,Community Event
END:VEVENT
BEGIN:VEVENT
DTSTART;TZID=America/Detroit:20191211T190000
DTEND;TZID=America/Detroit:20191211T200000
DTSTAMP:20260425T081002
CREATED:20181114T193727Z
LAST-MODIFIED:20210914T222444Z
UID:3873-1576090800-1576094400@larryandcarla.com
SUMMARY:Christmas Handbell Duet Concert (Private Event)
DESCRIPTION:Handbell duo Larry and Carla will present a concert of Christmas handbell music for residents and their guests at a senior living community in Jenison\, Michigan. This is a private event.
URL:https://larryandcarla.com/event/christmas-handbell-duet-concert-private-event/
LOCATION:Waterford Place\, 1725 Port Sheldon St\, Jenison\, MI\, 49428\, United States
CATEGORIES:Christmas and Holiday Performance
END:VEVENT
BEGIN:VEVENT
DTSTART;TZID=America/Detroit:20191209T140000
DTEND;TZID=America/Detroit:20191209T160000
DTSTAMP:20260425T081002
CREATED:20191106T235235Z
LAST-MODIFIED:20200930T111956Z
UID:4472-1575900000-1575907200@larryandcarla.com
SUMMARY:Christmas Handbell Duets at D&W Fresh Market\, Holland
DESCRIPTION:Fundraising for the Salvation Army in Holland\, Michigan\n\n\n\nHandbell duo Larry and Carla will be playing Christmas handbell music at the Salvation Army Red Kettle at D&W Fresh Market in Holland\, Michigan!
URL:https://larryandcarla.com/event/christmas-handbell-duets-at-dw-fresh-market-holland/
CATEGORIES:Christmas and Holiday Performance,Community Event,Street Performance
END:VEVENT
BEGIN:VEVENT
DTSTART;TZID=America/Detroit:20191207T100000
DTEND;TZID=America/Detroit:20191207T120000
DTSTAMP:20260425T081002
CREATED:20191121T230301Z
LAST-MODIFIED:20200930T112011Z
UID:4496-1575712800-1575720000@larryandcarla.com
SUMMARY:Christmas Handbells at Otsego District Public Library
DESCRIPTION:"Christmas at Our House" event in California – December 2013\n\n\n\nMichigan handbell duo Larry and Carla will be welcoming the Christmas season at Otsego District Library’s Santa and Reindeer Day! There will be popcorn\, donuts\, hot chocolate\, an opportunity to meet Santa and his reindeer\, ODL’s own Felix the Fox\, crafts\, and beautiful handbell music all morning. Don’t miss this exciting family event!
URL:https://larryandcarla.com/event/christmas-handbells-at-otsego-district-public-library/
LOCATION:Otsego District Public Library\, 401 Dix St\, Otsego\, Michigan\, 49078\, United States
CATEGORIES:Christmas and Holiday Performance,Community Event
END:VEVENT
BEGIN:VEVENT
DTSTART;TZID=America/Detroit:20191202T100000
DTEND;TZID=America/Detroit:20191202T120000
DTSTAMP:20260425T081002
CREATED:20191106T234741Z
LAST-MODIFIED:20240805T111807Z
UID:4469-1575280800-1575288000@larryandcarla.com
SUMMARY:Christmas Handbells at D&W Fresh Market\, Holland
DESCRIPTION:Handbell duo Larry and Carla will be playing Christmas handbell music at the Salvation Army Red Kettle at D&W Fresh Market in Holland\, Michigan! \n\n\n\nChristmas bells at the Salvation Army Red Kettle in Holland\, Michigan!
URL:https://larryandcarla.com/event/christmas-handbells-at-dw-fresh-market-holland/
LOCATION:D&W Fresh Market\, 50 Douglas Ave\, Holland\, MI\, 49424\, United States
CATEGORIES:Christmas and Holiday Performance,Community Event,Street Performance
END:VEVENT
BEGIN:VEVENT
DTSTART;TZID=America/Detroit:20191130T100000
DTEND;TZID=America/Detroit:20191130T120000
DTSTAMP:20260425T081002
CREATED:20191106T233549Z
LAST-MODIFIED:20200930T112029Z
UID:4467-1575108000-1575115200@larryandcarla.com
SUMMARY:Christmas Bells at the Salvation Army Red Kettle
DESCRIPTION:Playing handbells for the Salvation Army at D&W Fresh Market in Holland \n\n\n\nHandbell duo Larry and Carla will be playing Christmas handbell music at the Salvation Army Red Kettle at D&W Fresh Market in Holland\, Michigan!
URL:https://larryandcarla.com/event/christmas-bells-at-the-salvation-army-red-kettle/
LOCATION:D&W Fresh Market\, 50 Douglas Ave\, Holland\, MI\, 49424\, United States
CATEGORIES:Christmas and Holiday Performance,Community Event,Street Performance
END:VEVENT
BEGIN:VEVENT
DTSTART;TZID=America/Detroit:20191129T150000
DTEND;TZID=America/Detroit:20191129T170000
DTSTAMP:20260425T081002
CREATED:20190628T005105Z
LAST-MODIFIED:20210117T164434Z
UID:4283-1575039600-1575046800@larryandcarla.com
SUMMARY:Handbells at the 2019 Kerstmarkt - Holland
DESCRIPTION:Larry and Carla will be playing Christmas handbell music at the Kerstmarkt – an open-air European-style Christmas market located at the 8th Street Marketplace in Downtown Holland. Come and listen to beautiful festive music as you shop for unique\, handcrafted gifts and locally-made holiday treats!
URL:https://larryandcarla.com/event/handbells-at-the-2019-kerstmarkt-holland/
LOCATION:Kerstmarkt – Holland\, 150 W 8th St\, Holland\, MI\, 49423\, United States
CATEGORIES:Christmas and Holiday Performance,Community Event,Street Performance
END:VEVENT
BEGIN:VEVENT
DTSTART;TZID=America/Detroit:20191027T140000
DTEND;TZID=America/Detroit:20191027T150000
DTSTAMP:20260425T081002
CREATED:20190910T014350Z
LAST-MODIFIED:20200930T112042Z
UID:4413-1572184800-1572188400@larryandcarla.com
SUMMARY:"It is Well with my Soul" - a Handbell Duet Concert
DESCRIPTION:Larry and Carla will be presenting a concert of handbell duets at Gregory Southwest Church of the Nazarene. Admission is free\, and no advance booking is required. A free-will offering will be collected at the concert.
URL:https://larryandcarla.com/event/it-is-well-with-my-soul-a-handbell-duet-concert/
LOCATION:Gregory Southwest Church of the Nazarene\, 14555 Holmes Road\, Gregory\, Michigan\, 48137\, United States
CATEGORIES:Community Event,Handbell Concert
END:VEVENT
BEGIN:VEVENT
DTSTART;TZID=America/Detroit:20190919T150000
DTEND;TZID=America/Detroit:20190919T154500
DTSTAMP:20260425T081002
CREATED:20190620T002909Z
LAST-MODIFIED:20200930T112056Z
UID:4274-1568905200-1568907900@larryandcarla.com
SUMMARY:Handbell Duet Performance at Resthaven Maple Woods
DESCRIPTION:Larry and Carla will be presenting a program of handbell duets to residents and their guests at this senior living community in Holland\, Michigan.
URL:https://larryandcarla.com/event/handbell-duet-performance-at-resthaven-maple-woods/
LOCATION:Resthaven Maple Woods\, 49 E 32nd St\, Holland\, MI\, 49423\, United States
CATEGORIES:Handbell Concert
END:VEVENT
BEGIN:VEVENT
DTSTART;TZID=America/Detroit:20190829T183000
DTEND;TZID=America/Detroit:20190829T203000
DTSTAMP:20260425T081002
CREATED:20190825T020723Z
LAST-MODIFIED:20200930T112102Z
UID:4395-1567103400-1567110600@larryandcarla.com
SUMMARY:Handbells at the Downtown Holland Street Performer Series
DESCRIPTION:Larry and Carla will be playing handbell duets on the final evening of the 2019 Downtown Holland Street Performer Series. Look for us outside Resthaven Warm Friend on Thursday\, August 29th. \n\n\n\n2019 Downtown Holland Street Performer Series\n\n\n\nThis event is sponsored by the Gentex Corporation and supported by Michigan Council for the Arts and Cultural Affairs through the Holland Area Arts Council. It’s free to attend\, but tips for the performers are appreciated!
URL:https://larryandcarla.com/event/handbells-at-the-downtown-holland-street-performer-series/
LOCATION:Resthaven Warm Friend\, 5 E 8th St\, Holland\, 49423\, United States
END:VEVENT
BEGIN:VEVENT
DTSTART;TZID=America/Detroit:20190825T100000
DTEND;TZID=America/Detroit:20190825T110000
DTSTAMP:20260425T081002
CREATED:20190716T213544Z
LAST-MODIFIED:20220606T232239Z
UID:4345-1566727200-1566730800@larryandcarla.com
SUMMARY:Handbell Duets at Third Reformed Church of Holland
DESCRIPTION:Larry and Carla will be playing handbell duets during the morning service at Third Reformed Church of Holland\, Michigan.
URL:https://larryandcarla.com/event/handbell-duets-at-third-reformed-church-of-holland/
LOCATION:Third Reformed Church\, 111 W 13th St\, Holland\, MI\, 49423\, United States
CATEGORIES:Worship Service
END:VEVENT
BEGIN:VEVENT
DTSTART;TZID=America/Detroit:20190818T093000
DTEND;TZID=America/Detroit:20190818T103000
DTSTAMP:20260425T081002
CREATED:20190714T021750Z
LAST-MODIFIED:20200925T115029Z
UID:4304-1566120600-1566124200@larryandcarla.com
SUMMARY:Handbell Duets at Central Methodist Church\, Muskegon
DESCRIPTION:(Photo: Carl S. Gutekunst) \n\nHandbell duo Larry and Carla will be playing duets in the 9:30am worship service at Central United Methodist Church in Muskegon\, on Sunday\, August 18th.
URL:https://larryandcarla.com/event/handbell-duets-at-central-methodist-church-muskegon/
LOCATION:Central Methodist Church\, 1011 2nd St\, Muskegon\, MI\, 49440\, United States
CATEGORIES:Worship Service
END:VEVENT
BEGIN:VEVENT
DTSTART;TZID=America/Detroit:20190812T120000
DTEND;TZID=America/Detroit:20190816T100000
DTSTAMP:20260425T081002
CREATED:20181205T011934Z
LAST-MODIFIED:20220616T005215Z
UID:3885-1565611200-1565949600@larryandcarla.com
SUMMARY:The Bay View Week of Handbells 2019
DESCRIPTION:We’re looking forward to the 42nd Bay View Week of Handbells\, where more than a hundred advanced handbell musicians will be rehearsing and performing some beautiful\, challenging and exciting music under the baton of director Fred Gramann.\n\nThis year’s event will be the tenth Week of Handbells we’ve attended together\, and it’s particularly exciting for us because one of Larry’s original compositions – A Minor Crash – will be performed there!\n\nThe concert will be held on Thursday\, August 15th\, 2019\, at 7:30pm at the John M. Hall Auditorium\, 1715 Encampment Avenue\, Petoskey\, Michigan. An offering will be taken to benefit the Bay View Association Music Scholarship Fund. There’s no need to book tickets in advance\, but you should plan to arrive in plenty of time to get good seats\, because it’s a popular concert!\n\nThe John M Hall Auditorium at Bay View
URL:https://larryandcarla.com/event/the-bay-view-week-of-handbells-2019/
LOCATION:John M. Hall Auditorium\, 1725 Encampment Ave\, Petoskey\, MI\, MI 49770\, United States
CATEGORIES:Handbell Concert,Handbell Festival
END:VEVENT
BEGIN:VEVENT
DTSTART;TZID=America/Detroit:20190804T090000
DTEND;TZID=America/Detroit:20190804T100000
DTSTAMP:20260425T081002
CREATED:20190628T003933Z
LAST-MODIFIED:20200930T112126Z
UID:4279-1564909200-1564912800@larryandcarla.com
SUMMARY:Handbell Duets at Christ Memorial Church\, Holland
DESCRIPTION:Handbell duo Larry and Carla will be playing handbell duets at the 9:00am service at Christ Memorial Church.
URL:https://larryandcarla.com/event/handbell-duets-at-christ-memorial-church-holland/
LOCATION:Christ Memorial Church\, 595 Graafschap Rd\, Holland\, MI\, 49424\, United States
CATEGORIES:Worship Service
END:VEVENT
BEGIN:VEVENT
DTSTART;TZID=America/Detroit:20190725T063000
DTEND;TZID=America/Detroit:20190725T203000
DTSTAMP:20260425T081002
CREATED:20190617T170524Z
LAST-MODIFIED:20190825T015540Z
UID:4263-1564036200-1564086600@larryandcarla.com
SUMMARY:Handbells at the 2019 Downtown Holland Street Performer Series
DESCRIPTION:Handbell duets in Downtown Holland! \n\nLarry and Carla will be playing handbell duets as part of the 2019 Downtown Holland Street Performer Series. Look for us outside the Knickerbocker Theatre on July 29th\, and outside Resthaven Warm Friend on August 29th.\n\nThis event is sponsored by the Gentex Corporation and supported by Michigan Council for the Arts and Cultural Affairs through the Holland Area Arts Council. It’s free to attend\, but tips for the performers are appreciated!
URL:https://larryandcarla.com/event/handbells-at-the-2019-downtown-holland-street-performer-series-2/
LOCATION:Knickerbocker Theatre\, 3504\, 86 E 8th St\, Holland\, MI\, 49423\, United States
CATEGORIES:Community Event,Street Performance
END:VEVENT
BEGIN:VEVENT
DTSTART;TZID=America/Detroit:20190711T191500
DTEND;TZID=America/Detroit:20190711T200000
DTSTAMP:20260425T081002
CREATED:20181117T204015Z
LAST-MODIFIED:20231129T202006Z
UID:3880-1562872500-1562875200@larryandcarla.com
SUMMARY:Handbell Duet Concert at Freedom Village (Private Event)
DESCRIPTION:Handbell duo Larry and Carla will present a concert of handbell duets for residents at this senior living community. This is a private event.
URL:https://larryandcarla.com/event/handbell-duet-concert-at-freedom-village-private-event/
CATEGORIES:Handbell Concert
END:VEVENT
BEGIN:VEVENT
DTSTART;TZID=America/Detroit:20190702T090000
DTEND;TZID=America/Detroit:20190702T110000
DTSTAMP:20260425T081002
CREATED:20180521T010525Z
LAST-MODIFIED:20201017T192326Z
UID:3243-1562058000-1562065200@larryandcarla.com
SUMMARY:Handbell Duets at the 2019 Great Lakes Regional Convention of the AGO
DESCRIPTION:Larry and Carla will present a demonstration of handbell duets at a reception with coffee and snacks\, for guests at the 2019 Great Lakes Regional Convention of the American Guild of Organists. This event will take place at Third Reformed Church of Holland\, at 9:00am and again at 10:00am.
URL:https://larryandcarla.com/event/handbells-at-grago-2019/
LOCATION:Third Reformed Church\, 111 W 13th St\, Holland\, MI\, 49423\, United States
CATEGORIES:Community Event,Handbell Class or Workshop,Handbell Concert
END:VEVENT
BEGIN:VEVENT
DTSTART;TZID=America/Detroit:20190613T183000
DTEND;TZID=America/Detroit:20190613T203000
DTSTAMP:20260425T081002
CREATED:20190604T192323Z
LAST-MODIFIED:20200930T112151Z
UID:4257-1560450600-1560457800@larryandcarla.com
SUMMARY:Handbells at the 2019 Downtown Holland Street Performer Series
DESCRIPTION:Larry and Carla at the Downtown Holland Street Performer Series  \nLarry and Carla will be playing handbell duets as part of the 2019 Downtown Holland Street Performer Series. Look for us outside Resthaven Warm Friend on June 13th! \nWe’ll also be performing outside the Knickerbocker Theatre on July 29th\, and again outside Resthaven Warm Friend on August 29th. \nThis event is sponsored by the Gentex Corporation and supported by Michigan Council for the Arts and Cultural Affairs through the Holland Area Arts Council.
URL:https://larryandcarla.com/event/handbells-at-the-2019-downtown-holland-street-performer-series/
LOCATION:5 E 8th St\, 5 E 8th St\, Hollad\, MI\, 49423\, United States
CATEGORIES:Community Event,Street Performance
END:VEVENT
BEGIN:VEVENT
DTSTART;TZID=America/Detroit:20190519T103000
DTEND;TZID=America/Detroit:20190519T120000
DTSTAMP:20260425T081002
CREATED:20190215T171026Z
LAST-MODIFIED:20200930T112156Z
UID:3958-1558261800-1558267200@larryandcarla.com
SUMMARY:Handbell Duets at North Park Presbyterian Church
DESCRIPTION:Larry and Carla will be playing handbell duets as part of the Music Sunday service at North Park Presbyterian Church in Grand Rapids.
URL:https://larryandcarla.com/event/handbell-duets-at-north-park-presbyterian-church-grand-rapids/
LOCATION:North Park Presbyterian Church\, 2543\, 500 N Park St NE\, Grand Rapids\, MI\, 49525\, United States
CATEGORIES:Worship Service
END:VEVENT
BEGIN:VEVENT
DTSTART;TZID=America/Detroit:20190505T150000
DTEND;TZID=America/Detroit:20190505T162000
DTSTAMP:20260425T081002
CREATED:20190425T231642Z
LAST-MODIFIED:20200930T112203Z
UID:4215-1557068400-1557073200@larryandcarla.com
SUMMARY:Handbell Duet Concert in Los Altos\, California
DESCRIPTION:Returning to the San Francisco Bay Area for a concert!  \nJust three years ago\, Larry and Carla Sue left the San Francisco Bay Area and moved to Holland\, Michigan. Since then\, they have spent their time proving that yes\, you can play eight bells with only two ringers\, and they’ve built a thriving online music business in the process. Now they’re back in the Bay Area to showcase their talents as a duo\, and feature their music. \nLarry and Carla first met when they started chatting via an online handbell community. Their in-person meeting was delayed (since Carla lived in England and Larry in California)\, but a year after they finally connected at a handbell event in 2010\, they were engaged. They have been arranging music for handbells and performing duets together ever since. So far\, their performances have taken them to Georgia\, Pennsylvania\, Nebraska\, Michigan\, and New Jersey\, and they have been featured at weddings\, memorials\, concerts\, corporate events\, worship services\, holiday events\, classes\, workshops\, and even on television. \nThis dynamic duo plays with an ease that showcases what can be accomplished with just two ringers and only eight handbells. The Bay Area is pleased to welcome Larry and Carla back in a one-time concert this spring — don’t miss it! \nNo tickets required; a free-will offering will be collected to help Handbell Ventures with the cost of bringing Larry and Carla back to the Bay Area.  🙂
URL:https://larryandcarla.com/event/handbell-duet-concert-in-los-altos-california/
LOCATION:Los Altos Lutheran Church\, 460 S. El Monte Avenue\, Los Altos\, CA\, 94022\, United States
CATEGORIES:Community Event,Handbell Concert
END:VEVENT
BEGIN:VEVENT
DTSTART;TZID=America/Detroit:20181230T160000
DTEND;TZID=America/Detroit:20181230T170000
DTSTAMP:20260425T081002
CREATED:20181022T210506Z
LAST-MODIFIED:20240116T025737Z
UID:3823-1546185600-1546189200@larryandcarla.com
SUMMARY:Vespers Service at Freedom Village of Holland (Private Event)
DESCRIPTION:Christmas bells! \n\nLarry and Carla will be playing Christmas handbell music at the Sunday vespers service for Freedom Village residents and guests.
URL:https://larryandcarla.com/event/vespers-service-at-freedom-village-of-holland-private-event/
LOCATION:Freedom Village\, 145 Columbia Ave\, Holland\, MI\, 49423\, United States
CATEGORIES:Christmas and Holiday Performance,Worship Service
END:VEVENT
BEGIN:VEVENT
DTSTART;TZID=America/Detroit:20181218T123000
DTEND;TZID=America/Detroit:20181218T133000
DTSTAMP:20260425T081002
CREATED:20180606T002213Z
LAST-MODIFIED:20180609T153731Z
UID:3297-1545136200-1545139800@larryandcarla.com
SUMMARY:Holiday Handbell Duet Concert (Private Event)
DESCRIPTION:Larry and Carla will be presenting a program of holiday handbell duets at this private event in Grandville\, Michigan.
URL:https://larryandcarla.com/event/holiday-handbell-duet-concert-private-event/
LOCATION:Grandville\, Michigan
CATEGORIES:Christmas and Holiday Performance
END:VEVENT
BEGIN:VEVENT
DTSTART;TZID=America/Detroit:20181217T183000
DTEND;TZID=America/Detroit:20181217T193000
DTSTAMP:20260425T081002
CREATED:20181106T145007Z
LAST-MODIFIED:20181106T145007Z
UID:3849-1545071400-1545075000@larryandcarla.com
SUMMARY:Christmas Handbells in Holland\, Michigan (Private Event)
DESCRIPTION:Larry and Carla will be playing Christmas handbell duets to entertain residents and their families at a senior living community in Holland\, Michigan. This is a private event.
URL:https://larryandcarla.com/event/christmas-handbells-in-holland-michigan-private-event/
LOCATION:Resthaven Maple Woods\, 49 E 32nd St\, Holland\, MI\, 49423\, United States
END:VEVENT
BEGIN:VEVENT
DTSTART;TZID=America/Detroit:20181217T130000
DTEND;TZID=America/Detroit:20181217T160000
DTSTAMP:20260425T081002
CREATED:20181018T235752Z
LAST-MODIFIED:20181018T235752Z
UID:3820-1545051600-1545062400@larryandcarla.com
SUMMARY:Christmas Bells at the Salvation Army Red Kettle in Holland\, MI
DESCRIPTION:Bellringing for the Salvation Army in Holland\, Michigan!  \nHandbell duo Larry and Carla will be playing Christmas handbell music at the Salvation Army Red Kettle at D&W Fresh Market in Holland\, Michigan!
URL:https://larryandcarla.com/event/christmas-bells-at-the-salvation-army-red-kettle-in-holland-mi-4/
LOCATION:D&W Fresh Market\, 50 Douglas Ave\, Holland\, MI\, 49424\, United States
CATEGORIES:Christmas and Holiday Performance,Community Event,Street Performance
END:VEVENT
BEGIN:VEVENT
DTSTART;TZID=America/Detroit:20181213T131500
DTEND;TZID=America/Detroit:20181213T140000
DTSTAMP:20260425T081002
CREATED:20180613T223439Z
LAST-MODIFIED:20180613T223439Z
UID:3316-1544706900-1544709600@larryandcarla.com
SUMMARY:Handbell Performance at Holiday Tea Party (Private Event)
DESCRIPTION:Larry and Carla will playing Christmas and holiday handbell duets for this private event at Hudsonville Library.
URL:https://larryandcarla.com/event/handbell-performance-at-holiday-tea-party-private-event/
LOCATION:Gary Byker Memorial Library of Hudsonville\, 3338 Van Buren St\, Hudsonville\, MI\, 49426\, United States
CATEGORIES:Christmas and Holiday Performance
END:VEVENT
BEGIN:VEVENT
DTSTART;TZID=America/Detroit:20181212T183000
DTEND;TZID=America/Detroit:20181212T193000
DTSTAMP:20260425T081002
CREATED:20180724T195727Z
LAST-MODIFIED:20180724T195727Z
UID:3382-1544639400-1544643000@larryandcarla.com
SUMMARY:Larry and Carla - Handbell Duets at Christmas Party in Holland\, Michigan (Private Event)
DESCRIPTION:Larry and Carla will be playing Christmas handbell duets to entertain residents and their families at a care center in Holland\, Michigan. This is a private event.
URL:https://larryandcarla.com/event/larry-and-carla-handbell-duets-at-christmas-party-in-holland-michigan-private-event/
LOCATION:280 W 40th St\, Holland\, MI 49423\, 280 W 40th Street\, Holland\, MI\, 49423\, United States
CATEGORIES:Christmas and Holiday Performance
END:VEVENT
BEGIN:VEVENT
DTSTART;TZID=America/Detroit:20181212T100000
DTEND;TZID=America/Detroit:20181212T130000
DTSTAMP:20260425T081002
CREATED:20181018T235449Z
LAST-MODIFIED:20181018T235449Z
UID:3818-1544608800-1544619600@larryandcarla.com
SUMMARY:Christmas Bells at the Salvation Army Red Kettle in Holland\, MI
DESCRIPTION:Bellringing for the Salvation Army in Holland\, Michigan!  \nHandbell duo Larry and Carla will be playing Christmas handbell music at the Salvation Army Red Kettle at D&W Fresh Market in Holland\, Michigan!
URL:https://larryandcarla.com/event/christmas-bells-at-the-salvation-army-red-kettle-in-holland-mi-3/
CATEGORIES:Christmas and Holiday Performance,Community Event,Street Performance
END:VEVENT
BEGIN:VEVENT
DTSTART;TZID=America/Detroit:20181211T183000
DTEND;TZID=America/Detroit:20181211T193000
DTSTAMP:20260425T081002
CREATED:20180724T195233Z
LAST-MODIFIED:20180724T195233Z
UID:3379-1544553000-1544556600@larryandcarla.com
SUMMARY:Larry and Carla - Christmas Handbell Duets in Holland\, Michigan (Private Event)
DESCRIPTION:Larry and Carla will be playing Christmas handbell duets to entertain residents and their families at a care center in Holland\, Michigan. This is a private event.
URL:https://larryandcarla.com/event/larry-and-carla-christmas-handbell-duets-in-holland-michigan-private-event/
LOCATION:Resthaven Care Center\, 280 W 40th St\, Holland\, MI\, 49423\, United States
CATEGORIES:Christmas and Holiday Performance
END:VEVENT
END:VCALENDAR