BEGIN:VCALENDAR
VERSION:2.0
PRODID:-//Larry and Carla - ECPv6.15.20//NONSGML v1.0//EN
CALSCALE:GREGORIAN
METHOD:PUBLISH
X-WR-CALNAME:Larry and Carla
X-ORIGINAL-URL:https://larryandcarla.com
X-WR-CALDESC:Events for Larry and Carla
REFRESH-INTERVAL;VALUE=DURATION:PT1H
X-Robots-Tag:noindex
X-PUBLISHED-TTL:PT1H
BEGIN:VTIMEZONE
TZID:America/Detroit
BEGIN:DAYLIGHT
TZOFFSETFROM:-0500
TZOFFSETTO:-0400
TZNAME:EDT
DTSTART:20170312T070000
END:DAYLIGHT
BEGIN:STANDARD
TZOFFSETFROM:-0400
TZOFFSETTO:-0500
TZNAME:EST
DTSTART:20171105T060000
END:STANDARD
BEGIN:DAYLIGHT
TZOFFSETFROM:-0500
TZOFFSETTO:-0400
TZNAME:EDT
DTSTART:20180311T070000
END:DAYLIGHT
BEGIN:STANDARD
TZOFFSETFROM:-0400
TZOFFSETTO:-0500
TZNAME:EST
DTSTART:20181104T060000
END:STANDARD
BEGIN:DAYLIGHT
TZOFFSETFROM:-0500
TZOFFSETTO:-0400
TZNAME:EDT
DTSTART:20190310T070000
END:DAYLIGHT
BEGIN:STANDARD
TZOFFSETFROM:-0400
TZOFFSETTO:-0500
TZNAME:EST
DTSTART:20191103T060000
END:STANDARD
END:VTIMEZONE
BEGIN:VEVENT
DTSTART;TZID=America/Detroit:20181126T100000
DTEND;TZID=America/Detroit:20181126T130000
DTSTAMP:20260425T151730
CREATED:20181018T234845Z
LAST-MODIFIED:20181018T234845Z
UID:3811-1543226400-1543237200@larryandcarla.com
SUMMARY:Christmas Bells at the Salvation Army Red Kettle in Holland\, MI
DESCRIPTION:Bellringing for the Salvation Army in Holland\, Michigan! \nHandbell duo Larry and Carla will be playing Christmas handbell music at the Salvation Army Red Kettle at D&W Fresh Market in Holland\, Michigan!
URL:https://larryandcarla.com/event/christmas-bells-at-the-salvation-army-red-kettle-in-holland-mi/
LOCATION:D&W Fresh Market\, 50 Douglas Ave\, Holland\, MI\, 49424\, United States
CATEGORIES:Christmas and Holiday Performance,Community Event,Street Performance
END:VEVENT
BEGIN:VEVENT
DTSTART;TZID=America/Detroit:20181124T093000
DTEND;TZID=America/Detroit:20181124T113000
DTSTAMP:20260425T151730
CREATED:20180612T202225Z
LAST-MODIFIED:20181124T133225Z
UID:3310-1543051800-1543059000@larryandcarla.com
SUMMARY:Christmas Handbells at the Kerstmarkt - Holland
DESCRIPTION:Christmas bells! \nLarry and Carla will be playing Christmas handbell music at the Kerstmarkt – an open-air European-style Christmas market located at the 8th Street Marketplace in Downtown Holland.
URL:https://larryandcarla.com/event/christmas-handbells-at-the-kerstmarkt-holland/
LOCATION:150 W 8th St\, 150 W 8th St\, Holland\, MI\, 49423\, United States
CATEGORIES:Christmas and Holiday Performance,Community Event,Street Performance
END:VEVENT
BEGIN:VEVENT
DTSTART;TZID=America/Detroit:20181116T110000
DTEND;TZID=America/Detroit:20181116T140000
DTSTAMP:20260425T151730
CREATED:20181004T012144Z
LAST-MODIFIED:20191121T180543Z
UID:3755-1542366000-1542376800@larryandcarla.com
SUMMARY:Ringing in the Holiday Season - in Holland\, Michigan
DESCRIPTION:Handbell duo Larry and Carla will be Ringing in the Holiday Season at Ditto Upscale Resale on Friday\, November 16th\, as part of the store’s annual Holiday Open House event. Come and welcome the holiday season with cookies\, coffee and giveaways! Larry and Carla will be performing handbell duets from 11:00am to 2:00pm.
URL:https://larryandcarla.com/event/ringing-in-the-holiday-season-in-holland-michigan/
LOCATION:Ditto Upscale Resale\, 571 E 8th St\, Holland\, MI 49423\, MI\, 49423\, United States
CATEGORIES:Christmas and Holiday Performance,Community Event
END:VEVENT
BEGIN:VEVENT
DTSTART;TZID=America/Detroit:20181104T150000
DTEND;TZID=America/Detroit:20181104T161500
DTSTAMP:20260425T151730
CREATED:20181014T215833Z
LAST-MODIFIED:20181014T215833Z
UID:3790-1541343600-1541348100@larryandcarla.com
SUMMARY:The 2018 Rietberg Concert in Holland\, Michigan
DESCRIPTION:Handbell duo Larry and Carla will be the guest musicians for the 21st Annual Rietberg Concert. This concert is a tribute to the 45 years of service of Roger and Evelyn Rietberg to the music program of Third Reformed Church. \nLarry and Carla are originally from California and England\, and were brought together by their passion for handbells. They moved to Holland in August 2016\, and are members of Third Reformed Church. This informal Sunday afternoon program will feature hymns and traditional melodies\, all played using just eight bells.
URL:https://larryandcarla.com/event/the-2018-rietberg-concert-in-holland-michigan/
LOCATION:Third Reformed Church\, 111 W 13th St\, Holland\, MI\, 49423\, United States
CATEGORIES:Community Event,Handbell Concert
END:VEVENT
BEGIN:VEVENT
DTSTART;TZID=America/Detroit:20181027T183000
DTEND;TZID=America/Detroit:20181027T191500
DTSTAMP:20260425T151730
CREATED:20181003T183334Z
LAST-MODIFIED:20181003T183334Z
UID:3752-1540665000-1540667700@larryandcarla.com
SUMMARY:Handbell Duets at Fall Fest in Grand Rapids\, Michigan
DESCRIPTION:Michigan handbell duo Larry and Carla will be presenting a program of handbell duets at Fall Fest\, the annual event held at North Park Presbyterian Church in Grand Rapids. \nThe program will start at 6:30pm and last 45-50 minutes. More details will follow!
URL:https://larryandcarla.com/event/handbell-duets-at-fall-fest-in-grand-rapids-michigan/
LOCATION:North Park Presbyterian Church\, 2543\, 500 N Park St NE\, Grand Rapids\, MI\, 49525\, United States
CATEGORIES:Community Event,Handbell Concert
END:VEVENT
BEGIN:VEVENT
DTSTART;TZID=America/Detroit:20181006T170000
DTEND;TZID=America/Detroit:20181006T180000
DTSTAMP:20260425T151730
CREATED:20180904T014316Z
LAST-MODIFIED:20180904T014403Z
UID:3585-1538845200-1538848800@larryandcarla.com
SUMMARY:Handbells with the Zeeland Community Band at PumpkinFest 2018
DESCRIPTION:Larry and Carla will be adding the music of handbells to the Zeeland Community Band’s outdoor concert during the PumpkinFest event in Downtown Zeeland. \nThe concert will be held at Vander Luyster Square Park (where the gazebo is). If it rains\, we’ll move the concert indoors – to the activity room in the Howard Miller Public Library. \nThis event is open to the public\, and is free to attend\, although donations to the band are welcome and appreciated.
URL:https://larryandcarla.com/event/handbells-with-the-zeeland-community-band-at-pumpkinfest-2018/
LOCATION:Three Corner/Vander Luyster Square Park\, Church Street\, Zeeland\, MI\, 49464\, United States
CATEGORIES:Community Event,Street Performance
END:VEVENT
BEGIN:VEVENT
DTSTART;TZID=America/Detroit:20181004T080000
DTEND;TZID=America/Detroit:20181004T170000
DTSTAMP:20260425T151730
CREATED:20181004T121654Z
LAST-MODIFIED:20181004T121654Z
UID:3759-1538640000-1538672400@larryandcarla.com
SUMMARY:Christmas Handbell Performance in Grand Rapids (Private Event)
DESCRIPTION:Michigan handbell duo Larry and Carla will be presenting a program of Christmas handbell music at a private lunchtime event in Grand Rapids.
URL:https://larryandcarla.com/event/christmas-handbell-performance-in-grand-rapids-private-event/
LOCATION:Seventh Reformed Church\, 950 Leonard Street NW\, Grand Rapids\, MI\, 49504\, United States
CATEGORIES:Christmas and Holiday Performance
END:VEVENT
BEGIN:VEVENT
DTSTART;TZID=America/Detroit:20180902T100000
DTEND;TZID=America/Detroit:20180902T110000
DTSTAMP:20260425T151730
CREATED:20180831T011436Z
LAST-MODIFIED:20201008T120530Z
UID:3483-1535882400-1535886000@larryandcarla.com
SUMMARY:Handbell Duets at Third Reformed Church of Holland\, Michigan
DESCRIPTION:Larry and Carla will be playing handbell duets during the morning service at Third Reformed Church of Holland\, Michigan.
URL:https://larryandcarla.com/event/handbell-duets-at-third-reformed-church-of-holland-michigan/
LOCATION:Third Reformed Church\, 111 W 13th St\, Holland\, MI\, 49423\, United States
END:VEVENT
BEGIN:VEVENT
DTSTART;TZID=America/Detroit:20180826T160000
DTEND;TZID=America/Detroit:20180826T170000
DTSTAMP:20260425T151730
CREATED:20180612T140456Z
LAST-MODIFIED:20180612T140456Z
UID:3307-1535299200-1535302800@larryandcarla.com
SUMMARY:Vespers Service at Freedom Village\, Holland (Private Event)
DESCRIPTION:Larry and Carla will be playing handbell duets at this worship service for Freedom Village Residents.
URL:https://larryandcarla.com/event/vespers-service-at-freedom-village-holland-private-event/
LOCATION:Freedom Village\, 145 Columbia Ave\, Holland\, MI\, 49423\, United States
CATEGORIES:Worship Service
END:VEVENT
BEGIN:VEVENT
DTSTART;TZID=America/Detroit:20180813T120000
DTEND;TZID=America/Detroit:20180817T110000
DTSTAMP:20260425T151730
CREATED:20180122T122441Z
LAST-MODIFIED:20181205T012216Z
UID:3043-1534161600-1534503600@larryandcarla.com
SUMMARY:The Bay View Week of Handbells 2018
DESCRIPTION:We’re looking forward to the 41st Bay View Week of Handbells\, where 104 advanced handbell musicians will be playing some beautiful\, challenging and exciting music under the baton of newly-appointed director Fred Gramann\, and preparing for a public concert on Thursday August 16th. \nIf you’re in the area\, and you’d like to attend the free concert\, there’s no need to book tickets in advance. The concert will be held on Thursday\, August 16th\, 2018 at 8:00pm in the John M. Hall Auditorium\, 1715 Encampment Ave.\, Petoskey\, Michigan. An offering will be taken to benefit the Bay View Association Music Scholarship Fund. You should plan to arrive in plenty of time to get good seats\, because it’s a popular concert! \nThe John M Hall Auditorium at Bay View
URL:https://larryandcarla.com/event/the-bay-view-week-of-handbells-2018/
LOCATION:MI
CATEGORIES:Handbell Festival
END:VEVENT
BEGIN:VEVENT
DTSTART;TZID=America/Detroit:20180812T160000
DTEND;TZID=America/Detroit:20180812T173000
DTSTAMP:20260425T151730
CREATED:20180802T144041Z
LAST-MODIFIED:20180802T144041Z
UID:3406-1534089600-1534095000@larryandcarla.com
SUMMARY:Handbell Duet Concert at First Presbyterian Church of Harbor Springs
DESCRIPTION:We’ll be presenting a concert of handbell duets at First Presbyterian Church of Harbor Springs\, on Sunday\, August 12th\, 2018. We’ll be playing some of our favorite hymns and tradiional melodies\, and will be joined by the Kirk Ringers of First Presbyterian for several of the selections. Admission is free; a freewill offering will be taken.
URL:https://larryandcarla.com/event/handbell-duet-concert-at-first-presbyterian-church-of-harbor-springs/
LOCATION:First Presbyterian Church of Harbor Springs\, 7940 Cemetery Rd\, Harbor Springs\, MI\, 49740\, United States
CATEGORIES:Handbell Concert
END:VEVENT
BEGIN:VEVENT
DTSTART;TZID=America/Detroit:20180809T183000
DTEND;TZID=America/Detroit:20180809T203000
DTSTAMP:20260425T151730
CREATED:20180528T114700Z
LAST-MODIFIED:20180809T152017Z
UID:3269-1533839400-1533846600@larryandcarla.com
SUMMARY:The 2018 Downtown Holland Street Performer Series
DESCRIPTION:Larry and Carla at the Downtown Holland Street Performer Series  \nLarry and Carla will be playing handbell duets as part of the 2018 Downtown Holland Street Performer Series. Look for us outside R.I.T. Music on August 9th! \nThis event is sponsored by the Gentex Corporation and supported by Michigan Council for the Arts and Cultural Affairs through the Holland Area Arts Council.
URL:https://larryandcarla.com/event/the-2018-downtown-holland-street-performer-series-2/
LOCATION:74 E 8th St\,\, 74 E 8th St\, Holland\, MI\, 49423\, United States
CATEGORIES:Community Event,Street Performance
END:VEVENT
BEGIN:VEVENT
DTSTART;TZID=America/Detroit:20180719T183000
DTEND;TZID=America/Detroit:20180719T203000
DTSTAMP:20260425T151730
CREATED:20180528T114131Z
LAST-MODIFIED:20180609T154737Z
UID:3265-1532025000-1532032200@larryandcarla.com
SUMMARY:The 2018 Downtown Holland Street Performer Series
DESCRIPTION:Larry and Carla at the Downtown Holland Street Performer Series  \nLarry and Carla will be playing handbell duets as part of the 2018 Downtown Holland Street Performer Series. Look for us outside Resthaven Warm Friend on July 19th! \nWe’ll also be performing outside Tin Ceiling on July 5th\, and outside R.I.T. Music on August 9th.  \nThis event is sponsored by the Gentex Corporation and supported by Michigan Council for the Arts and Cultural Affairs through the Holland Area Arts Council.
URL:https://larryandcarla.com/event/the-2018-downtown-holland-street-performer-series/
LOCATION:5 E 8th St\, 5 E 8th St\, Hollad\, MI\, 49423\, United States
CATEGORIES:Street Performance
END:VEVENT
BEGIN:VEVENT
DTSTART;TZID=America/Detroit:20180711T190000
DTEND;TZID=America/Detroit:20180711T200000
DTSTAMP:20260425T151730
CREATED:20180602T182725Z
LAST-MODIFIED:20180609T154746Z
UID:3294-1531335600-1531339200@larryandcarla.com
SUMMARY:Camp Chair Concert (Private Event)
DESCRIPTION:West Michigan’s smallest handbell choir!  \nLarry and Carla will be presenting an outdoor concert of handbell duets at this private event in Holland\, Michigan.
URL:https://larryandcarla.com/event/camp-chair-concert-private-event/
LOCATION:MI
CATEGORIES:Handbell Concert
END:VEVENT
BEGIN:VEVENT
DTSTART;TZID=America/Detroit:20180705T063000
DTEND;TZID=America/Detroit:20180705T203000
DTSTAMP:20260425T151730
CREATED:20180528T113217Z
LAST-MODIFIED:20180609T154229Z
UID:3260-1530772200-1530822600@larryandcarla.com
SUMMARY:The 2018 Downtown Holland Street Performer Series
DESCRIPTION:Larry and Carla at the Downtown Holland Street Performer Series  \nLarry and Carla will be playing handbell duets as part of the 2018 Downtown Holland Street Performer Series. Look for us outside Tin Ceiling on July 5th! \nWe’ll also be performing outside Resthaven Warm Friend on July 19th\, and outside R.I.T. Music on August 9th. \nThis event is sponsored by the Gentex Corporation and supported by Michigan Council for the Arts and Cultural Affairs through the Holland Area Arts Council.
URL:https://larryandcarla.com/event/the-2018-downtown-holland-street-performers-series-july-5/
LOCATION:10 E 8th St\, Holland\, MI 49423\, 10 E 8th St\, Holland\, MI\, 49423\, United States
CATEGORIES:Street Performance
END:VEVENT
BEGIN:VEVENT
DTSTART;TZID=America/Detroit:20180627T180000
DTEND;TZID=America/Detroit:20180630T220000
DTSTAMP:20260425T151730
CREATED:20180609T151741Z
LAST-MODIFIED:20180609T153431Z
UID:3302-1530122400-1530396000@larryandcarla.com
SUMMARY:Bring It! Ring It! Handbell Musicians of America Area 8 Festival
DESCRIPTION:West Michigan’s smallest handbell choir!  \nLarry and Carla will be at the Area 8 festival in Omaha\, Nebraska this summer! \nWe’ll be presenting a short concert of eight-bell duets\, Larry will be directing the BronzeFest choir\, and we’ll be teaching classes on eight-bell music\, bass techniques\, and British-style four-in-hand ringing.
URL:https://larryandcarla.com/event/bring-it-ring-it-handbell-musicians-of-america-area-8-festival/
LOCATION:3321 South 72nd Street\, Omaha\, Coco Keys Resort\, 3321 South 72nd Street\, Omaha\, NE\, 68124\, United States
CATEGORIES:Handbell Festival
END:VEVENT
BEGIN:VEVENT
DTSTART;TZID=America/Detroit:20180625T193000
DTEND;TZID=America/Detroit:20180625T203000
DTSTAMP:20260425T151730
CREATED:20180614T130927Z
LAST-MODIFIED:20180614T130927Z
UID:3320-1529955000-1529958600@larryandcarla.com
SUMMARY:Handbells in Concert with the Zeeland Community Band
DESCRIPTION:West Michigan’s smallest handbell choir!  \nLarry and Carla will be adding the music of handbells to the first of Zeeland Community Band’s outdoor summer concerts for 2018. This event is open to the public\, and is free to attend\, although donations to the band are welcome and appreciated.
URL:https://larryandcarla.com/event/handbells-in-concert-with-the-zeeland-community-band-2/
LOCATION:Three Corner\, Three Corner/Vande Luyster Square Park\, Church Street\, Zeeland\, MI\, 49464\, United States
CATEGORIES:Community Event,Handbell Concert,Street Performance
END:VEVENT
BEGIN:VEVENT
DTSTART;TZID=America/Detroit:20180606T063000
DTEND;TZID=America/Detroit:20180606T203000
DTSTAMP:20260425T151730
CREATED:20180514T160610Z
LAST-MODIFIED:20180609T154859Z
UID:3239-1528266600-1528317000@larryandcarla.com
SUMMARY:Handbell Duet Performance in Holland\, Michigan (Private Event)
DESCRIPTION:Larry and Carla will be performing handbell duets as part of an evening concert program in Holland\, Michigan.
URL:https://larryandcarla.com/event/handbell-duet-performance-in-holland-michigan-private-event/
LOCATION:MI
CATEGORIES:Handbell Concert
END:VEVENT
BEGIN:VEVENT
DTSTART;TZID=America/Detroit:20180427T200000
DTEND;TZID=America/Detroit:20180427T210000
DTSTAMP:20260425T151730
CREATED:20180404T181203Z
LAST-MODIFIED:20180609T153537Z
UID:3117-1524859200-1524862800@larryandcarla.com
SUMMARY:Opening Concert at the Area 5 Spring Festival\, Mackinac Island
DESCRIPTION:Handbell ringers from Handbell Musicians of America Area 5 will be going to Mackinac Island for a weekend of handbell music\, education\, fellowship and fun\, with guest conductor Fred Gramann! \nLarry and Carla will be performing the opening concert on Friday evening.
URL:https://larryandcarla.com/event/opening-concert-at-the-area-5-spring-festival-mackinac-island/
LOCATION:Grand Hotel\, 286 Grand Ave\, Mackinac Island\, MI\, 49757\, United States
CATEGORIES:Handbell Festival
END:VEVENT
BEGIN:VEVENT
DTSTART;TZID=America/Detroit:20180426T133000
DTEND;TZID=America/Detroit:20180426T143000
DTSTAMP:20260425T151730
CREATED:20180413T231536Z
LAST-MODIFIED:20180609T154922Z
UID:3148-1524749400-1524753000@larryandcarla.com
SUMMARY:Educational Handbell Performance (Private Event)
DESCRIPTION:Larry and Carla and other musicians will be presenting an educational program of handbell and piano music at this private event on Mackinac Island\, as part of the Handbell Musicians of America Area 5 Spring Festival.
URL:https://larryandcarla.com/event/educational-handbell-performance-private-event/
LOCATION:Mackinac Island
CATEGORIES:Handbell Class or Workshop
END:VEVENT
BEGIN:VEVENT
DTSTART;TZID=America/Detroit:20180425T170000
DTEND;TZID=America/Detroit:20180425T190000
DTSTAMP:20260425T151730
CREATED:20180423T153025Z
LAST-MODIFIED:20180609T154933Z
UID:3167-1524675600-1524682800@larryandcarla.com
SUMMARY:Handbell Choir Workshop in Harbor Springs\, Michigan (Private Event)
DESCRIPTION:Larry and Carla will spend an evening working with a church handbell choir in Harbor Springs\, Michigan.
URL:https://larryandcarla.com/event/handbell-choir-workshop-in-harbor-springs-michigan-private-event/
LOCATION:MI
CATEGORIES:Handbell Class or Workshop
END:VEVENT
BEGIN:VEVENT
DTSTART;TZID=America/Detroit:20180319T183000
DTEND;TZID=America/Detroit:20180319T200000
DTSTAMP:20260425T151730
CREATED:20180207T190138Z
LAST-MODIFIED:20180614T125742Z
UID:3077-1521484200-1521489600@larryandcarla.com
SUMMARY:Handbells in Concert with the Zeeland Community Band
DESCRIPTION:Larry and Carla will be adding handbell music to this concert by the Zeeland Community Band\, for residents and guests at Royal Park Place.
URL:https://larryandcarla.com/event/handbells-in-concert-with-the-zeeland-community-band/
LOCATION:500 Parkside Dr\, Zeeland\, MI 49464\, Royal Park Place\, Zeeland\, MI\, 49464\, United States
CATEGORIES:Community Event
END:VEVENT
BEGIN:VEVENT
DTSTART;TZID=America/Detroit:20180313T020000
DTEND;TZID=America/Detroit:20180313T150000
DTSTAMP:20260425T151730
CREATED:20180123T145938Z
LAST-MODIFIED:20210914T222318Z
UID:3051-1520906400-1520953200@larryandcarla.com
SUMMARY:Handbell Demonstration at Senior Living Community (private event)
DESCRIPTION:We’ll be giving a handbell demonstration/information session to Freedom Village Residents \n\nWe’ll be making another trip to Freedom Village here in Holland\, Michigan\, to demonstrate how we play our handbells – as a follow-up to the concert we gave there in November 2017. Audience members will be able to have a go at playing handchimes. This event is for Freedom Village residents only.
URL:https://larryandcarla.com/event/handbell-demonstration-at-senior-living-community-private-event/
LOCATION:Freedom Village\, 145 Columbia Ave\, Holland\, MI\, 49423\, United States
CATEGORIES:Handbell Concert
END:VEVENT
END:VCALENDAR